BEGIN:VCALENDAR
PRODID:-//eluceo/ical//2.0/EN
VERSION:2.0
CALSCALE:GREGORIAN
BEGIN:VEVENT
UID:cdf-event-2e61fc29-918c-42aa-a93c-19c253d54097
DTSTAMP:20260420T163933Z
SUMMARY:Présences
DESCRIPTION:Informations complémentaires :\n- Intervenant(s) : Didier Fass
 in\n- Cours: Présences de Foucault\n- Événement associé à :\n-- Didie
 r Fassin\, chaire Questions morales et enjeux politiques dans les sociét
 és contemporaines\n- Accès : Forte affluence ! Se présenter 45 mn avant
  le début. Libre accès\, dans la limite des places disponibles\n- Accéd
 er à la page de l'événement : https://www.college-de-france.fr/fr/agend
 a/cours/presences-de-foucault/presences
DTSTART:20260505T120000Z
DTEND:20260505T130000Z
LOCATION:Amphithéâtre Marguerite de Navarre\, Site Marcelin Berthelot
END:VEVENT
END:VCALENDAR
