BEGIN:VCALENDAR
PRODID:-//eluceo/ical//2.0/EN
VERSION:2.0
CALSCALE:GREGORIAN
BEGIN:VEVENT
UID:cdf-event-b135c907-d3e4-49f7-9942-170fa0171f85
DTSTAMP:20260420T135315Z
SUMMARY:Engineering Strong Interactions and Topology in Moiré Flat-Bands
DESCRIPTION:Informations complémentaires :\n- Intervenant(s) : Dmitri Efet
 ov\n- Séminaire: De l’effet Hall quantique aux matériaux moirés : top
 ologie et géométrie des matériaux quantiques\n- Événement associé à
  :\n-- Antoine Georges\, chaire Physique de la matière condensée\n- Acc
 ès : En libre accès\, dans la limite des places disponibles\n- Accéder 
 à la page de l'événement : https://www.college-de-france.fr/fr/agenda/s
 eminaire/topologie-et-correlations-electroniques-le-graphene-torsade/engin
 eering-strong-interactions-and-topology-in-moire-flat-bands
DTSTART:20260513T093000Z
DTEND:20260513T104500Z
LOCATION:Amphithéâtre Guillaume Budé\, Site Marcelin Berthelot
END:VEVENT
BEGIN:VEVENT
UID:cdf-event-1bfc33fd-6bb5-4d55-b744-963ee586f7b0
DTSTAMP:20260420T135315Z
SUMMARY:Correlated Topological Quantum Matter: From Abstract Invariants to 
 Practical Topological Markers
DESCRIPTION:Informations complémentaires :\n- Intervenant(s) : Nathan Gold
 man\n- Séminaire: De l’effet Hall quantique aux matériaux moirés : to
 pologie et géométrie des matériaux quantiques\n- Événement associé 
 à :\n-- Antoine Georges\, chaire Physique de la matière condensée\n- Ac
 cès : En libre accès\, dans la limite des places disponibles\n- Accéder
  à la page de l'événement : https://www.college-de-france.fr/fr/agenda/
 seminaire/de-effet-hall-quantique-aux-materiaux-de-moire-topologie-et-geom
 etrie-des-materiaux-quantiques/correlated-topological-quantum-matter-from-
 abstract-invariants-to-practical-topological-markers
DTSTART:20260518T090000Z
DTEND:20260518T101500Z
LOCATION:Amphithéâtre Guillaume Budé\, Site Marcelin Berthelot
END:VEVENT
BEGIN:VEVENT
UID:cdf-event-c0d06919-bc54-40d0-b680-f7ac1379e31a
DTSTAMP:20260420T135315Z
SUMMARY:Fractional Chern Insulators: Toy Models\, Moiré and New Mysteries
DESCRIPTION:Informations complémentaires :\n- Intervenant(s) : Nicolas Reg
 nault\n- Séminaire: De l’effet Hall quantique aux matériaux moirés : 
 topologie et géométrie des matériaux quantiques\n- Événement associé
  à :\n-- Antoine Georges\, chaire Physique de la matière condensée\n- A
 ccès : En libre accès\, dans la limite des places disponibles\n- Accéde
 r à la page de l'événement : https://www.college-de-france.fr/fr/agenda
 /seminaire/topologie-et-correlations-electroniques-le-graphene-torsade/fra
 ctional-chern-insulators-toy-models-moire-and-new-mysteries
DTSTART:20260520T093000Z
DTEND:20260520T104500Z
LOCATION:Amphithéâtre Guillaume Budé\, Site Marcelin Berthelot
END:VEVENT
BEGIN:VEVENT
UID:cdf-event-dd3235e6-7909-4e3a-ae0a-e076c275e15b
DTSTAMP:20260420T135315Z
SUMMARY:Topological States in Moiré Materials
DESCRIPTION:Informations complémentaires :\n- Intervenant(s) : Rebeca Ribe
 iro-Palau\n- Séminaire: De l’effet Hall quantique aux matériaux moiré
 s : topologie et géométrie des matériaux quantiques\n- Événement asso
 cié à :\n-- Antoine Georges\, chaire Physique de la matière condensée\
 n- Accès : En libre accès\, dans la limite des places disponibles\n- Acc
 éder à la page de l'événement : https://www.college-de-france.fr/fr/ag
 enda/seminaire/topologie-et-correlations-electroniques-le-graphene-torsade
 /topological-states-in-moire-materials
DTSTART:20260527T093000Z
DTEND:20260527T104500Z
LOCATION:Amphithéâtre Guillaume Budé\, Site Marcelin Berthelot
END:VEVENT
BEGIN:VEVENT
UID:cdf-event-eb03a024-9cce-4ba2-a96e-33e2a5309134
DTSTAMP:20260420T135315Z
SUMMARY:Electron Optics Experiments in Quantum Hall Conductors: from Single
  Electrons to Anyons
DESCRIPTION:Informations complémentaires :\n- Intervenant(s) : Gwendal Fè
 ve\n- Séminaire: De l’effet Hall quantique aux matériaux moirés : top
 ologie et géométrie des matériaux quantiques\n- Événement associé à
  :\n-- Antoine Georges\, chaire Physique de la matière condensée\n- Acc
 ès : En libre accès\, dans la limite des places disponibles\n- Accéder 
 à la page de l'événement : https://www.college-de-france.fr/fr/agenda/s
 eminaire/topologie-et-correlations-electroniques-le-graphene-torsade/elect
 ron-optics-experiments-in-quantum-hall-conductors-from-single-electrons-to
 -anyons
DTSTART:20260603T093000Z
DTEND:20260603T104500Z
LOCATION:Amphithéâtre Guillaume Budé\, Site Marcelin Berthelot
END:VEVENT
END:VCALENDAR
