BEGIN:VCALENDAR
PRODID:-//eluceo/ical//2.0/EN
VERSION:2.0
CALSCALE:GREGORIAN
BEGIN:VEVENT
UID:cdf-event-a06c4085-2cea-4340-bb39-3fa2c892e165
DTSTAMP:20260422T132344Z
SUMMARY:« Iudicium iudicate ». De l'impossibilité métaphorique
DESCRIPTION:Informations complémentaires :\n- Intervenant(s) : Carlo Ossol
 a\n- Séminaire: Dire les choses autrement : qu'est-ce que la métaphore ?
 \n- Événement associé à :\n-- Dario Mantovani\, chaire Droit\, culture
  et société de la Rome antique\n- Accès : En libre accès\, dans la lim
 ite des places disponibles\n- Accéder à la page de l'événement : https
 ://www.college-de-france.fr/fr/agenda/seminaire/dire-les-choses-autrement-
 qu-est-ce-que-la-metaphore/iudicium-iudicate-de-impossibilite-metaphorique
DTSTART:20260603T140000Z
DTEND:20260603T160000Z
LOCATION:Amphithéâtre Maurice Halbwachs\, Site Marcelin Berthelot
END:VEVENT
END:VCALENDAR
