BEGIN:VCALENDAR
PRODID:-//eluceo/ical//2.0/EN
VERSION:2.0
CALSCALE:GREGORIAN
BEGIN:VEVENT
UID:cdf-event-22b5959c-044c-4cf0-9278-019cc9caf677
DTSTAMP:20260423T213956Z
SUMMARY:Les métaphores et les limites imposées par l’ontologie naturell
 e 
DESCRIPTION:Informations complémentaires :\n- Intervenant(s) : Marco Fasci
 olo\n- Séminaire: Dire les choses autrement : qu'est-ce que la métaphore
  ?\n- Événement associé à :\n-- Dario Mantovani\, chaire Droit\, cultu
 re et société de la Rome antique\n- Accès : En libre accès\, dans la l
 imite des places disponibles\n- Accéder à la page de l'événement : htt
 ps://www.college-de-france.fr/fr/agenda/seminaire/dire-les-choses-autremen
 t-qu-est-ce-que-la-metaphore/les-metaphores-et-les-limites-imposees-par-on
 tologie-naturelle
DTSTART:20260506T140000Z
DTEND:20260506T160000Z
LOCATION:Amphithéâtre Maurice Halbwachs\, Site Marcelin Berthelot
END:VEVENT
END:VCALENDAR
