BEGIN:VCALENDAR
PRODID:-//eluceo/ical//2.0/EN
VERSION:2.0
CALSCALE:GREGORIAN
BEGIN:VEVENT
UID:cdf-event-dac422b5-4d4a-4280-a07d-4340a431fd60
DTSTAMP:20260426T040003Z
SUMMARY:Utilisation de carbocations en synthèse stéréosélective
DESCRIPTION:Informations complémentaires :\n- Intervenant(s) : Ilan Marek\
 n- Séminaire: Espèces réactives et intermédiaires\n- Événement assoc
 ié à :\n-- Louis Fensterbank\, chaire Activations en chimie moléculaire
 \n- Accès : En libre accès\, dans la limite des places disponibles\n- Ac
 céder à la page de l'événement : https://www.college-de-france.fr/fr/a
 genda/seminaire/especes-reactives-et-intermediaires/utilisation-de-carboca
 tions-en-synthese-stereoselective
DTSTART:20260506T090000Z
DTEND:20260506T100000Z
LOCATION:Amphithéâtre Mireille Delmas-Marty (salle 5)\, Site Marcelin Ber
 thelot
END:VEVENT
END:VCALENDAR
