BEGIN:VCALENDAR
PRODID:-//eluceo/ical//2.0/EN
VERSION:2.0
CALSCALE:GREGORIAN
BEGIN:VEVENT
UID:cdf-event-699555c3-7a49-4173-af0f-c28a7a8518d8
DTSTAMP:20260421T191856Z
SUMMARY:1) Documents en rapport avec la présence sassanide en Asie central
 e \; 2) Le mythe historiographique du mithraisme souterrain en Iran (1)
DESCRIPTION:Informations complémentaires :\n- Intervenant(s) : Frantz Gren
 et\, Touraj Daryaee\, Nina Mazhjoo\n- Séminaire: Mithra en dialogue\n- É
 vénement associé à :\n-- Frantz Grenet\, chaire Histoire et cultures de
  l&#039\;Asie centrale préislamique\n- Accès : En libre accès\, dans la
  limite des places disponibles\n- Accéder à la page de l'événement : h
 ttps://www.college-de-france.fr/fr/agenda/seminaire/mithra-en-dialogue/1-d
 ocuments-en-rapport-avec-la-presence-sassanide-en-asie-centrale-2-le-mythe
 -historiographique-du
DTSTART:20260602T080000Z
DTEND:20260602T093000Z
LOCATION:Amphithéâtre Guillaume Budé\, Site Marcelin Berthelot
END:VEVENT
END:VCALENDAR
