BEGIN:VCALENDAR
PRODID:-//eluceo/ical//2.0/EN
VERSION:2.0
CALSCALE:GREGORIAN
BEGIN:VEVENT
UID:cdf-event-b56d175e-cfe9-4093-bf32-3e774969b277
DTSTAMP:20260420T091832Z
SUMMARY:Attachés sur le dos d'un tigre. Michel Foucault et la vérité
DESCRIPTION:Informations complémentaires :\n- Intervenant(s) : Judith Reve
 l\n- Séminaire: Penser avec Foucault\n- Événement associé à :\n-- Did
 ier Fassin\, chaire Questions morales et enjeux politiques dans les socié
 tés contemporaines\n- Accès : En libre accès\, dans la limite des place
 s disponibles\n- Accéder à la page de l'événement : https://www.colleg
 e-de-france.fr/fr/agenda/seminaire/penser-avec-foucault/attaches-sur-le-do
 s-un-tigre-michel-foucault-et-la-verite
DTSTART:20260519T143000Z
DTEND:20260519T160000Z
LOCATION:Amphithéâtre Marguerite de Navarre\, Site Marcelin Berthelot
END:VEVENT
END:VCALENDAR
