BEGIN:VCALENDAR
PRODID:-//eluceo/ical//2.0/EN
VERSION:2.0
CALSCALE:GREGORIAN
BEGIN:VEVENT
UID:cdf-event-de62695e-7304-4711-956e-c7bb9c54f77d
DTSTAMP:20260423T122640Z
SUMMARY:Histoire des prisons. Le moment GIP en héritage
DESCRIPTION:Informations complémentaires :\n- Intervenant(s) : Philippe Ar
 tières\n- Séminaire: Penser avec Foucault\n- Événement associé à :\n
 -- Didier Fassin\, chaire Questions morales et enjeux politiques dans les 
 sociétés contemporaines\n- Accès : En libre accès\, dans la limite des
  places disponibles\n- Accéder à la page de l'événement : https://www.
 college-de-france.fr/fr/agenda/seminaire/penser-avec-foucault/histoire-des
 -prisons-le-moment-gip-en-heritage
DTSTART:20260512T143000Z
DTEND:20260512T160000Z
LOCATION:Amphithéâtre Marguerite de Navarre\, Site Marcelin Berthelot
END:VEVENT
END:VCALENDAR
