BEGIN:VCALENDAR
PRODID:-//eluceo/ical//2.0/EN
VERSION:2.0
CALSCALE:GREGORIAN
BEGIN:VEVENT
UID:cdf-event-00563344-60bf-4f33-9d12-f5f741b06d98
DTSTAMP:20260420T114011Z
SUMMARY:Répression et pouvoir. Le tournant de la sexualité
DESCRIPTION:Informations complémentaires :\n- Intervenant(s) : Frédéric 
 Gros\n- Séminaire: Penser avec Foucault\n- Événement associé à :\n-- 
 Didier Fassin\, chaire Questions morales et enjeux politiques dans les soc
 iétés contemporaines\n- Accès : En libre accès\, dans la limite des pl
 aces disponibles\n- Accéder à la page de l'événement : https://www.col
 lege-de-france.fr/fr/agenda/seminaire/penser-avec-foucault/repression-et-p
 ouvoir-le-tournant-de-la-sexualite
DTSTART:20260505T143000Z
DTEND:20260505T160000Z
LOCATION:Amphithéâtre Marguerite de Navarre\, Site Marcelin Berthelot
END:VEVENT
END:VCALENDAR
