BEGIN:VCALENDAR
PRODID:-//eluceo/ical//2.0/EN
VERSION:2.0
CALSCALE:GREGORIAN
BEGIN:VEVENT
UID:cdf-event-fda935ce-7de5-4a5d-a16f-d6d07d1dc7f6
DTSTAMP:20260419T190821Z
SUMMARY:Savoirs et pouvoirs dans les expériences démocratiques
DESCRIPTION:Informations complémentaires :\n- Intervenant(s) : José Luis 
 Moreno Pestaña\n- Séminaire: Penser avec Foucault\n- Événement associ
 é à :\n-- Didier Fassin\, chaire Questions morales et enjeux politiques 
 dans les sociétés contemporaines\n- Accès : En libre accès\, dans la l
 imite des places disponibles\n- Accéder à la page de l'événement : htt
 ps://www.college-de-france.fr/fr/agenda/seminaire/penser-avec-foucault/sav
 oirs-et-pouvoirs-dans-les-experiences-democratiques
DTSTART:20260602T143000Z
DTEND:20260602T160000Z
LOCATION:Amphithéâtre Marguerite de Navarre\, Site Marcelin Berthelot
END:VEVENT
END:VCALENDAR
